BEGIN:VCALENDAR
VERSION:2.0
PRODID:-//Soorp Khatch - ECPv6.15.20//NONSGML v1.0//EN
CALSCALE:GREGORIAN
METHOD:PUBLISH
X-WR-CALNAME:Soorp Khatch
X-ORIGINAL-URL:https://www.soorpkhatch.org
X-WR-CALDESC:Events for Soorp Khatch
REFRESH-INTERVAL;VALUE=DURATION:PT1H
X-Robots-Tag:noindex
X-PUBLISHED-TTL:PT1H
BEGIN:VTIMEZONE
TZID:UTC
BEGIN:STANDARD
TZOFFSETFROM:+0000
TZOFFSETTO:+0000
TZNAME:UTC
DTSTART:20250101T000000
END:STANDARD
END:VTIMEZONE
BEGIN:VEVENT
DTSTART;VALUE=DATE:20260306
DTEND;VALUE=DATE:20260307
DTSTAMP:20260424T202450
CREATED:20260306T143709Z
LAST-MODIFIED:20260306T143719Z
UID:8713-1772755200-1772841599@www.soorpkhatch.org
SUMMARY:Homenetmen Lenten Dinner
DESCRIPTION:
URL:https://www.soorpkhatch.org/event/homenetmen-lenten-dinner/
LOCATION:Soorp Khatch Arabian Hall
CATEGORIES:Events,Featured Events,Fundraising
ATTACH;FMTTYPE=image/jpeg:https://www.soorpkhatch.org/wp-content/uploads/2026/03/HOME-March-6.jpg
END:VEVENT
END:VCALENDAR