BEGIN:VCALENDAR
VERSION:2.0
PRODID:-//Soorp Khatch - ECPv6.15.20//NONSGML v1.0//EN
CALSCALE:GREGORIAN
METHOD:PUBLISH
X-ORIGINAL-URL:https://www.soorpkhatch.org
X-WR-CALDESC:Events for Soorp Khatch
REFRESH-INTERVAL;VALUE=DURATION:PT1H
X-Robots-Tag:noindex
X-PUBLISHED-TTL:PT1H
BEGIN:VTIMEZONE
TZID:UTC
BEGIN:STANDARD
TZOFFSETFROM:+0000
TZOFFSETTO:+0000
TZNAME:UTC
DTSTART:20250101T000000
END:STANDARD
END:VTIMEZONE
BEGIN:VEVENT
DTSTART;VALUE=DATE:20260307
DTEND;VALUE=DATE:20260308
DTSTAMP:20260424T202610
CREATED:20260219T021123Z
LAST-MODIFIED:20260219T021150Z
UID:8677-1772841600-1772927999@www.soorpkhatch.org
SUMMARY:Youth Connect Program
DESCRIPTION:
URL:https://www.soorpkhatch.org/event/youth-connect-program/
LOCATION:on-line
CATEGORIES:Classes,Events,Featured Events,Fundraising
ATTACH;FMTTYPE=image/jpeg:https://www.soorpkhatch.org/wp-content/uploads/2026/02/ARS-Norian-page-001.jpg
END:VEVENT
END:VCALENDAR